BEGIN:VCALENDAR
VERSION:2.0
PRODID:-//wp-events-plugin.com//7.2.3.1//EN
TZID:Europe/London
X-WR-TIMEZONE:Europe/London
BEGIN:VEVENT
UID:81@redbridgequilts.com
DTSTART;TZID=Europe/London:20251010T100000
DTEND;TZID=Europe/London:20251012T173000
DTSTAMP:20251009T123616Z
URL:https://redbridgequilts.com/events/knit-stitch-london/
SUMMARY:Knit + Stitch London
DESCRIPTION:Knit + Stitch\, formerly The Knitting &amp\; Stitching Show\, w
 ill be held 9-12 October\, 2025\, at the Alexandra Palace in North London.
  Bringing together hundreds of crafting workshops\, demonstrations\, inter
 active features\, curated textile art galleries\, as well as over 150 of t
 he leading specialist craft suppliers – this year’s show is bursting a
 t the seams with creativity and innovation. See here for more information.
ATTACH;FMTTYPE=image/jpeg:https://redbridgequilts.com/wp-content/uploads/2
 025/10/Alexandra-Palace.webp
CATEGORIES:Quilt Shows &amp; Exhibitions
LOCATION:Alexandra Palace\, Alexandra Palace Way\, Wood Green\, London\, N2
 2 7AY\, England
X-APPLE-STRUCTURED-LOCATION;VALUE=URI;X-ADDRESS=Alexandra Palace Way\, Wood
  Green\, London\, N22 7AY\, England;X-APPLE-RADIUS=100;X-TITLE=Alexandra P
 alace:geo:0,0
END:VEVENT
BEGIN:VTIMEZONE
TZID:Europe/London
X-LIC-LOCATION:Europe/London
BEGIN:DAYLIGHT
DTSTART:20250330T020000
TZOFFSETFROM:+0000
TZOFFSETTO:+0100
TZNAME:BST
END:DAYLIGHT
END:VTIMEZONE
END:VCALENDAR