BEGIN:VCALENDAR
VERSION:2.0
PRODID:-//wp-events-plugin.com//7.2.3.1//EN
TZID:Europe/London
X-WR-TIMEZONE:Europe/London
BEGIN:VEVENT
UID:70@redbridgequilts.com
DTSTART;TZID=Europe/London:20250504T100000
DTEND;TZID=Europe/London:20251004T160000
DTSTAMP:20250804T235704Z
URL:https://redbridgequilts.com/events/burren-arts-crafts-fair-1/
SUMMARY:Burren Arts & Crafts Fair
DESCRIPTION:The Burren Arts &amp\; Crafts Fair in beautiful Ballyvaughan (
 Co. Clare) runs every Sunday from May through October.  Why not stop by a
 nd meet the makers?   All are very friendly\, talented and dedicated cra
 ftspeople.  They would enjoy showing you their handmade crafts.  They ar
 e very knowledgeable in their craft and able to explain the entire process
  of what they do.\n\nFor example\, you will find Aran jumpers and other Ar
 an knits\, quilts and other quilted products\, natural herbal salves\, so
 aps\, and other herbalist products\, beautiful ceramics\, handcrafted wood
  items\, maps\, beautiful cards\, paintings\, framed photographs and much 
 more.  Red Bridge Quilts participates once or twice per month.  Contac
 t RBQ if you’d like to know when they will be there during any given mo
 nth.\n\nStop by the village hall in Ballyvaughan on Sundays\, May through 
 October\, from 10 a.m. until 4 p.m.  A great stopping-off point on the wa
 y to visit The Burren\, Aillwee Cave and the Cliffs of Moher.\n\n&nbsp\
 ;
ATTACH;FMTTYPE=image/jpeg:https://redbridgequilts.com/wp-content/uploads/2
 024/02/Burren-Arts-Crafts-e1753570075373.jpg
CATEGORIES:Craft Fairs
LOCATION:St. John Hall Community Centre\, St. John Hall Community Centre\, 
 Ballyvaughan\, Clare\, H91 AV82\, Ireland
X-APPLE-STRUCTURED-LOCATION;VALUE=URI;X-ADDRESS=St. John Hall Community Cen
 tre\, Ballyvaughan\, Clare\, H91 AV82\, Ireland;X-APPLE-RADIUS=100;X-TITLE
 =St. John Hall Community Centre:geo:0,0
END:VEVENT
BEGIN:VTIMEZONE
TZID:Europe/London
X-LIC-LOCATION:Europe/London
BEGIN:DAYLIGHT
DTSTART:20250330T020000
TZOFFSETFROM:+0000
TZOFFSETTO:+0100
TZNAME:BST
END:DAYLIGHT
END:VTIMEZONE
END:VCALENDAR