BEGIN:VCALENDAR
VERSION:2.0
PRODID:-//wp-events-plugin.com//7.2.3.1//EN
TZID:Europe/London
X-WR-TIMEZONE:Europe/London
BEGIN:VEVENT
UID:87@redbridgequilts.com
DTSTART;TZID=Europe/London:20260424T100000
DTEND;TZID=Europe/London:20260426T163000
DTSTAMP:20260114T024922Z
URL:https://redbridgequilts.com/events/british-quilt-stitch-village/
SUMMARY:British Quilt & Stitch Village
DESCRIPTION:TPL Exhibitions Ltd. presents the 12th British Quilt &amp\; Sti
 tch Village.  This event will take place from 24-26 April 2026 at Uttoxet
 er Racecourse\, Staffordshire.  Opening hours are from 10 a.m. to 4:30 p.
 m. on the 24th and 25th\, and from 10 a.m. to 4 p.m. on the 26th.  Trader
 s\, exhibitions\, demonstrations\, workshops and competitions.  It's all 
 there at this exciting event.  In addition\, it's a great opportunity to 
 stock up on all your crafting materials.\nThe following information is fro
 m the British Quilt &amp\; Stitch Village website: \n"We are now in our 1
 2th Year and again returning to the perfect venue of Uttoxeter Racecourse
 . The show offers a warm\, friendly atmosphere using many of the tradition
 al buildings offered by the racecourse\, giving it a village feel and enab
 ling visitors to freely explore all that the show has to offer.\n\nThere w
 ill be a multitude of specialist trade stands so that you can stock up on
  all your quilting essentials\; also\, a wide range of Quilt and Embroider
 y exhibitors will be demonstrating some interesting skills and giving visi
 tors the opportunity to have a go as well.\n\nIn addition\, workshops will
  run throughout the 3-day event\, which you can pre-book before or during 
 the event (subject to availability)\, where you can learn new skills and c
 reate and take away your work of art.\n\nThe competition has a Special The
 me\, Let Me Entertain You. All of the entries will be on display and you w
 ill have the chance to vote for your favourite entry. The Visitors Prize w
 ill be on the final day at the main Prize Giving.\n\nWhat is more\, refres
 hments are available all day from the Hoops Restaurant and the café in t
 he main Exhibition Hall.  There are also lovely in and outdoor areas to 
 sit and have a coffee and enjoy a picnic.\n\nCash Facilities: Trade stand
 s will accept cash. However\, there are NO Cash Machines on site. All race
 course refreshment/cafe facilities are card only. Our entrance gate and st
 ore holders all except cash and card payments. \n\nThere is full access 
 to all areas for the disabled. Parking is FREE and is on-site at the Rac
 ecourse and Uttoxeter Railway Station is right next to the racecourse."\nM
 ore information:\nSee here to book tickets and workshops\, enter the compe
 tition and find out more.\n\n&nbsp\;
ATTACH;FMTTYPE=image/jpeg:https://redbridgequilts.com/wp-content/uploads/2
 026/01/British-Quilt-Stitch-Village.png
CATEGORIES:Quilt Shows &amp; Exhibitions
LOCATION:Uttoxeter Racecourse\, Wood Lane\, Uttoxeter\, Staffordshire\, ST1
 4 8BD\, United Kingdom
X-APPLE-STRUCTURED-LOCATION;VALUE=URI;X-ADDRESS=Wood Lane\, Uttoxeter\, Sta
 ffordshire\, ST14 8BD\, United Kingdom;X-APPLE-RADIUS=100;X-TITLE=Uttoxete
 r Racecourse:geo:0,0
END:VEVENT
BEGIN:VTIMEZONE
TZID:Europe/London
X-LIC-LOCATION:Europe/London
BEGIN:DAYLIGHT
DTSTART:20260329T020000
TZOFFSETFROM:+0000
TZOFFSETTO:+0100
TZNAME:BST
END:DAYLIGHT
END:VTIMEZONE
END:VCALENDAR