BEGIN:VCALENDAR
VERSION:2.0
PRODID:-//wp-events-plugin.com//7.2.3.1//EN
TZID:Europe/London
X-WR-TIMEZONE:Europe/London
BEGIN:VEVENT
UID:67@redbridgequilts.com
DTSTART;TZID=Europe/London:20250130T100000
DTEND;TZID=Europe/London:20250201T160000
DTSTAMP:20250112T231334Z
URL:https://redbridgequilts.com/events/ardingly-quilt-show/
SUMMARY:Ardingly Quilt Show
DESCRIPTION:The Ardingly Quilt Show runs from Thursday\, 30 January to Satu
 rday\, 1 February 2025\, at the South of England Showground.  Thursday an
 d Friday from 10 a.m. to 4 p.m.  Saturday from 9:30 a.m. to 3:30 p.m.\n\n
 Advance tickets are available online through Wednesday\, 29 January.\n\nHi
 ghlights of the Show:\n\n 	Feature quilt displays from well-known quilters
  and textile artists\n 	A variety of exhibitors selling patchwork &amp\; q
 uilting supplies for all your needs\n 	Excellent facilities\, including re
 staurant\, disabled access &amp\; free parking\n
ATTACH;FMTTYPE=image/jpeg:https://redbridgequilts.com/wp-content/uploads/2
 025/01/Grosvenor-Shows-Logo-Dec21-e1736722764129.webp
CATEGORIES:Quilt Shows &amp; Exhibitions
LOCATION:South of England Showground\, Selsfield Road\, Ardingly\, Haywards
  Heath \, Sussex\, RH17 6TL\, England
X-APPLE-STRUCTURED-LOCATION;VALUE=URI;X-ADDRESS=Selsfield Road\, Ardingly\,
  Haywards Heath \, Sussex\, RH17 6TL\, England;X-APPLE-RADIUS=100;X-TITLE=
 South of England Showground:geo:0,0
END:VEVENT
BEGIN:VTIMEZONE
TZID:Europe/London
X-LIC-LOCATION:Europe/London
BEGIN:STANDARD
DTSTART:20241027T010000
TZOFFSETFROM:+0100
TZOFFSETTO:+0000
TZNAME:GMT
END:STANDARD
END:VTIMEZONE
END:VCALENDAR